BEGIN:VCALENDAR
VERSION:2.0
PRODID:-//Cankdeska Cikana Community College - ECPv6.15.20//NONSGML v1.0//EN
CALSCALE:GREGORIAN
METHOD:PUBLISH
X-WR-CALNAME:Cankdeska Cikana Community College
X-ORIGINAL-URL:https://www.littlehoop.edu
X-WR-CALDESC:Events for Cankdeska Cikana Community College
REFRESH-INTERVAL;VALUE=DURATION:PT1H
X-Robots-Tag:noindex
X-PUBLISHED-TTL:PT1H
BEGIN:VTIMEZONE
TZID:America/North_Dakota/New_Salem
BEGIN:DAYLIGHT
TZOFFSETFROM:-0600
TZOFFSETTO:-0500
TZNAME:CDT
DTSTART:20230312T080000
END:DAYLIGHT
BEGIN:STANDARD
TZOFFSETFROM:-0500
TZOFFSETTO:-0600
TZNAME:CST
DTSTART:20231105T070000
END:STANDARD
BEGIN:DAYLIGHT
TZOFFSETFROM:-0600
TZOFFSETTO:-0500
TZNAME:CDT
DTSTART:20240310T080000
END:DAYLIGHT
BEGIN:STANDARD
TZOFFSETFROM:-0500
TZOFFSETTO:-0600
TZNAME:CST
DTSTART:20241103T070000
END:STANDARD
BEGIN:DAYLIGHT
TZOFFSETFROM:-0600
TZOFFSETTO:-0500
TZNAME:CDT
DTSTART:20250309T080000
END:DAYLIGHT
BEGIN:STANDARD
TZOFFSETFROM:-0500
TZOFFSETTO:-0600
TZNAME:CST
DTSTART:20251102T070000
END:STANDARD
END:VTIMEZONE
BEGIN:VEVENT
DTSTART;VALUE=DATE:20241014
DTEND;VALUE=DATE:20241015
DTSTAMP:20260421T124303
CREATED:20240611T194859Z
LAST-MODIFIED:20240611T194859Z
UID:10003299-1728864000-1728950399@www.littlehoop.edu
SUMMARY:Classes start for 2nd - 8 week courses ONLY
DESCRIPTION:
URL:https://www.littlehoop.edu/event/classes-start-for-2nd-8-week-courses-only-3/
LOCATION:Cankdeska Cikana Community College\, 214 1st Ave\, Fort Totten\, ND\, 58335\, United States
CATEGORIES:Academic Calendar
END:VEVENT
BEGIN:VEVENT
DTSTART;TZID=America/North_Dakota/New_Salem:20241011T080000
DTEND;TZID=America/North_Dakota/New_Salem:20241011T170000
DTSTAMP:20260421T124303
CREATED:20240611T194956Z
LAST-MODIFIED:20240611T194956Z
UID:10003300-1728633600-1728666000@www.littlehoop.edu
SUMMARY:Final Grades due 1st - 8 week courses ONLY
DESCRIPTION:
URL:https://www.littlehoop.edu/event/final-grades-due-1st-8-week-courses-only/
LOCATION:Cankdeska Cikana Community College\, 214 1st Ave\, Fort Totten\, ND\, 58335\, United States
CATEGORIES:Academic Calendar
END:VEVENT
BEGIN:VEVENT
DTSTART;VALUE=DATE:20241011
DTEND;VALUE=DATE:20241012
DTSTAMP:20260421T124303
CREATED:20240611T194727Z
LAST-MODIFIED:20240611T194727Z
UID:10003298-1728604800-1728691199@www.littlehoop.edu
SUMMARY:Mid-Term Grades Due
DESCRIPTION:
URL:https://www.littlehoop.edu/event/mid-term-grades-due/
LOCATION:Cankdeska Cikana Community College\, 214 1st Ave\, Fort Totten\, ND\, 58335\, United States
CATEGORIES:Academic Calendar
END:VEVENT
BEGIN:VEVENT
DTSTART;VALUE=DATE:20241007
DTEND;VALUE=DATE:20241012
DTSTAMP:20260421T124303
CREATED:20240611T194701Z
LAST-MODIFIED:20240611T194701Z
UID:10003297-1728259200-1728691199@www.littlehoop.edu
SUMMARY:Mid-Term Week
DESCRIPTION:
URL:https://www.littlehoop.edu/event/mid-term-week/
LOCATION:Cankdeska Cikana Community College\, 214 1st Ave\, Fort Totten\, ND\, 58335\, United States
END:VEVENT
BEGIN:VEVENT
DTSTART;VALUE=DATE:20241004
DTEND;VALUE=DATE:20241005
DTSTAMP:20260421T124303
CREATED:20240611T194625Z
LAST-MODIFIED:20240611T194625Z
UID:10003296-1728000000-1728086399@www.littlehoop.edu
SUMMARY:Financial Aid Disbursement
DESCRIPTION:
URL:https://www.littlehoop.edu/event/financial-aid-disbursement-7/
LOCATION:Cankdeska Cikana Community College\, 214 1st Ave\, Fort Totten\, ND\, 58335\, United States
END:VEVENT
BEGIN:VEVENT
DTSTART;VALUE=DATE:20241004
DTEND;VALUE=DATE:20241005
DTSTAMP:20260421T124303
CREATED:20240611T194559Z
LAST-MODIFIED:20240611T194559Z
UID:10003295-1728000000-1728086399@www.littlehoop.edu
SUMMARY:Summer Incompletes Due
DESCRIPTION:
URL:https://www.littlehoop.edu/event/summer-incompletes-due-2/
LOCATION:Cankdeska Cikana Community College\, 214 1st Ave\, Fort Totten\, ND\, 58335\, United States
CATEGORIES:Academic Calendar
END:VEVENT
BEGIN:VEVENT
DTSTART;VALUE=DATE:20240927
DTEND;VALUE=DATE:20240928
DTSTAMP:20260421T124303
CREATED:20240611T192525Z
LAST-MODIFIED:20240611T192525Z
UID:10003294-1727395200-1727481599@www.littlehoop.edu
SUMMARY:Last Day to Withdraw from 8 week courses ONLY
DESCRIPTION:
URL:https://www.littlehoop.edu/event/last-day-to-withdraw-from-8-week-courses-only/
LOCATION:Cankdeska Cikana Community College\, 214 1st Ave\, Fort Totten\, ND\, 58335\, United States
END:VEVENT
BEGIN:VEVENT
DTSTART;VALUE=DATE:20240916
DTEND;VALUE=DATE:20240917
DTSTAMP:20260421T124303
CREATED:20240611T192447Z
LAST-MODIFIED:20240611T192447Z
UID:10003293-1726444800-1726531199@www.littlehoop.edu
SUMMARY:Enrollment Census Date
DESCRIPTION:
URL:https://www.littlehoop.edu/event/enrollment-census-date/
LOCATION:Cankdeska Cikana Community College\, 214 1st Ave\, Fort Totten\, ND\, 58335\, United States
END:VEVENT
BEGIN:VEVENT
DTSTART;VALUE=DATE:20240913
DTEND;VALUE=DATE:20240914
DTSTAMP:20260421T124303
CREATED:20240611T192420Z
LAST-MODIFIED:20240611T192420Z
UID:10003292-1726185600-1726271999@www.littlehoop.edu
SUMMARY:Last Day to Academically Withdraw 16 week courses ONLY
DESCRIPTION:
URL:https://www.littlehoop.edu/event/last-day-to-academically-withdraw-16-week-courses-only-2/
LOCATION:Cankdeska Cikana Community College\, 214 1st Ave\, Fort Totten\, ND\, 58335\, United States
END:VEVENT
BEGIN:VEVENT
DTSTART;VALUE=DATE:20240909
DTEND;VALUE=DATE:20240910
DTSTAMP:20260421T124303
CREATED:20240611T192319Z
LAST-MODIFIED:20240611T192319Z
UID:10003291-1725840000-1725926399@www.littlehoop.edu
SUMMARY:Tribal College Founders Day - College Closed
DESCRIPTION:
URL:https://www.littlehoop.edu/event/tribal-college-founders-day-college-closed/
LOCATION:Cankdeska Cikana Community College\, 214 1st Ave\, Fort Totten\, ND\, 58335\, United States
CATEGORIES:Academic Calendar
END:VEVENT
BEGIN:VEVENT
DTSTART;VALUE=DATE:20240906
DTEND;VALUE=DATE:20240907
DTSTAMP:20260421T124303
CREATED:20240611T192246Z
LAST-MODIFIED:20240611T192246Z
UID:10003290-1725580800-1725667199@www.littlehoop.edu
SUMMARY:Last Day to Drop without record 16 week courses ONLY
DESCRIPTION:
URL:https://www.littlehoop.edu/event/last-day-to-drop-without-record-16-week-courses-only-2/
LOCATION:Cankdeska Cikana Community College\, 214 1st Ave\, Fort Totten\, ND\, 58335\, United States
CATEGORIES:Academic Calendar
END:VEVENT
BEGIN:VEVENT
DTSTART;VALUE=DATE:20240902
DTEND;VALUE=DATE:20240903
DTSTAMP:20260421T124303
CREATED:20240611T184522Z
LAST-MODIFIED:20240611T192158Z
UID:10003289-1725235200-1725321599@www.littlehoop.edu
SUMMARY:Labor Day - College Closed
DESCRIPTION:
URL:https://www.littlehoop.edu/event/labor-day-college-closed/
LOCATION:Cankdeska Cikana Community College\, 214 1st Ave\, Fort Totten\, ND\, 58335\, United States
CATEGORIES:Academic Calendar
END:VEVENT
BEGIN:VEVENT
DTSTART;TZID=America/North_Dakota/New_Salem:20240830T080000
DTEND;TZID=America/North_Dakota/New_Salem:20240830T170000
DTSTAMP:20260421T124303
CREATED:20240610T132102Z
LAST-MODIFIED:20240610T132102Z
UID:10003286-1725004800-1725037200@www.littlehoop.edu
SUMMARY:Last Day to Academically Withdraw - 1st 8 week courses ONLY
DESCRIPTION:
URL:https://www.littlehoop.edu/event/last-day-to-academically-withdraw-1st-8-week-courses-only-2/
LOCATION:Cankdeska Cikana Community College\, 214 1st Ave\, Fort Totten\, ND\, 58335\, United States
CATEGORIES:Academic Calendar
END:VEVENT
BEGIN:VEVENT
DTSTART;TZID=America/North_Dakota/New_Salem:20240823T080000
DTEND;TZID=America/North_Dakota/New_Salem:20240823T170000
DTSTAMP:20260421T124303
CREATED:20240610T132016Z
LAST-MODIFIED:20240610T132016Z
UID:10003285-1724400000-1724432400@www.littlehoop.edu
SUMMARY:Last Day to drop a class 1st - 8 weeks courses ONLY
DESCRIPTION:
URL:https://www.littlehoop.edu/event/last-day-to-drop-a-class-1st-8-weeks-courses-only/
LOCATION:Cankdeska Cikana Community College\, 214 1st Ave\, Fort Totten\, ND\, 58335\, United States
CATEGORIES:Academic Calendar
END:VEVENT
BEGIN:VEVENT
DTSTART;VALUE=DATE:20240822
DTEND;VALUE=DATE:20240823
DTSTAMP:20260421T124303
CREATED:20240611T195527Z
LAST-MODIFIED:20240611T195527Z
UID:10003305-1724284800-1724371199@www.littlehoop.edu
SUMMARY:Last Day to Withdraw from Semester
DESCRIPTION:
URL:https://www.littlehoop.edu/event/last-day-to-withdraw-from-semester-2/
LOCATION:Cankdeska Cikana Community College\, 214 1st Ave\, Fort Totten\, ND\, 58335\, United States
END:VEVENT
BEGIN:VEVENT
DTSTART;TZID=America/North_Dakota/New_Salem:20240820T080000
DTEND;TZID=America/North_Dakota/New_Salem:20240820T170000
DTSTAMP:20260421T124303
CREATED:20240610T131913Z
LAST-MODIFIED:20240610T131913Z
UID:10003284-1724140800-1724173200@www.littlehoop.edu
SUMMARY:First Full Day of Fall Classes
DESCRIPTION:
URL:https://www.littlehoop.edu/event/first-full-day-of-fall-classes/
LOCATION:Cankdeska Cikana Community College\, 214 1st Ave\, Fort Totten\, ND\, 58335\, United States
CATEGORIES:Academic Calendar
END:VEVENT
BEGIN:VEVENT
DTSTART;TZID=America/North_Dakota/New_Salem:20240819T170000
DTEND;TZID=America/North_Dakota/New_Salem:20240819T210000
DTSTAMP:20260421T124303
CREATED:20240610T131840Z
LAST-MODIFIED:20240610T131840Z
UID:10003283-1724086800-1724101200@www.littlehoop.edu
SUMMARY:Fall Semester Evening Classes start 5:00 pm
DESCRIPTION:
URL:https://www.littlehoop.edu/event/fall-semester-evening-classes-start-500-pm/
LOCATION:Cankdeska Cikana Community College\, 214 1st Ave\, Fort Totten\, ND\, 58335\, United States
CATEGORIES:Academic Calendar
END:VEVENT
BEGIN:VEVENT
DTSTART;TZID=America/North_Dakota/New_Salem:20240819T080000
DTEND;TZID=America/North_Dakota/New_Salem:20240819T170000
DTSTAMP:20260421T124303
CREATED:20240610T131743Z
LAST-MODIFIED:20240610T131743Z
UID:10003282-1724054400-1724086800@www.littlehoop.edu
SUMMARY:Student Orientation - Online
DESCRIPTION:
URL:https://www.littlehoop.edu/event/student-orientation-online-2/
LOCATION:Cankdeska Cikana Community College\, 214 1st Ave\, Fort Totten\, ND\, 58335\, United States
CATEGORIES:Academic Calendar
END:VEVENT
BEGIN:VEVENT
DTSTART;TZID=America/North_Dakota/New_Salem:20240812T080000
DTEND;TZID=America/North_Dakota/New_Salem:20240816T170000
DTSTAMP:20260421T124303
CREATED:20240610T131707Z
LAST-MODIFIED:20240610T131707Z
UID:10003281-1723449600-1723827600@www.littlehoop.edu
SUMMARY:Student Registration for Fall Semester
DESCRIPTION:
URL:https://www.littlehoop.edu/event/student-registration-for-fall-semester/
LOCATION:Cankdeska Cikana Community College\, 214 1st Ave\, Fort Totten\, ND\, 58335\, United States
CATEGORIES:Academic Calendar
END:VEVENT
BEGIN:VEVENT
DTSTART;TZID=America/North_Dakota/New_Salem:20240808T080000
DTEND;TZID=America/North_Dakota/New_Salem:20240809T170000
DTSTAMP:20260421T124303
CREATED:20240610T131628Z
LAST-MODIFIED:20240610T131628Z
UID:10003280-1723104000-1723222800@www.littlehoop.edu
SUMMARY:Faculty In-Service
DESCRIPTION:
URL:https://www.littlehoop.edu/event/faculty-in-service/
LOCATION:Cankdeska Cikana Community College\, 214 1st Ave\, Fort Totten\, ND\, 58335\, United States
CATEGORIES:Academic Calendar
END:VEVENT
BEGIN:VEVENT
DTSTART;TZID=America/North_Dakota/New_Salem:20240731T120000
DTEND;TZID=America/North_Dakota/New_Salem:20240731T143000
DTSTAMP:20260421T124303
CREATED:20240626T132149Z
LAST-MODIFIED:20240626T132149Z
UID:10003362-1722427200-1722436200@www.littlehoop.edu
SUMMARY:No-Zone Workshop
DESCRIPTION:
URL:https://www.littlehoop.edu/event/no-zone-workshop-2/
LOCATION:Cankdeska Cikana Community College\, 214 1st Ave\, Fort Totten\, ND\, 58335\, United States
CATEGORIES:Campus Events
END:VEVENT
BEGIN:VEVENT
DTSTART;TZID=America/North_Dakota/New_Salem:20240731T120000
DTEND;TZID=America/North_Dakota/New_Salem:20240731T130000
DTSTAMP:20260421T124303
CREATED:20240626T132235Z
LAST-MODIFIED:20240626T132235Z
UID:10003363-1722427200-1722430800@www.littlehoop.edu
SUMMARY:Tie-Dye Bleach Aprons Workshop
DESCRIPTION:
URL:https://www.littlehoop.edu/event/tie-dye-bleach-aprons-workshop/
LOCATION:Cankdeska Cikana Community College\, 214 1st Ave\, Fort Totten\, ND\, 58335\, United States
CATEGORIES:Campus Events
END:VEVENT
BEGIN:VEVENT
DTSTART;VALUE=DATE:20240729
DTEND;VALUE=DATE:20240730
DTSTAMP:20260421T124303
CREATED:20240611T184209Z
LAST-MODIFIED:20240611T184209Z
UID:10003288-1722211200-1722297599@www.littlehoop.edu
SUMMARY:College Closed
DESCRIPTION:
URL:https://www.littlehoop.edu/event/college-closed-3/
LOCATION:Cankdeska Cikana Community College\, 214 1st Ave\, Fort Totten\, ND\, 58335\, United States
CATEGORIES:Academic Calendar
END:VEVENT
BEGIN:VEVENT
DTSTART;TZID=America/North_Dakota/New_Salem:20240726T090000
DTEND;TZID=America/North_Dakota/New_Salem:20240726T160000
DTSTAMP:20260421T124303
CREATED:20240626T132459Z
LAST-MODIFIED:20240626T132712Z
UID:10003364-1721984400-1722009600@www.littlehoop.edu
SUMMARY:CCCC Scholarship Golf Tournament
DESCRIPTION:
URL:https://www.littlehoop.edu/event/cccc-scholarship-golf-tournament/
LOCATION:New Rockford Golf Course\, New Rockford\, 58356\, United States
CATEGORIES:Campus Events
END:VEVENT
BEGIN:VEVENT
DTSTART;VALUE=DATE:20240726
DTEND;VALUE=DATE:20240727
DTSTAMP:20260421T124303
CREATED:20240611T184135Z
LAST-MODIFIED:20240611T184135Z
UID:10003287-1721952000-1722038399@www.littlehoop.edu
SUMMARY:College Closed
DESCRIPTION:
URL:https://www.littlehoop.edu/event/college-closed/
LOCATION:Cankdeska Cikana Community College\, 214 1st Ave\, Fort Totten\, ND\, 58335\, United States
CATEGORIES:Academic Calendar
END:VEVENT
BEGIN:VEVENT
DTSTART;TZID=America/North_Dakota/New_Salem:20240725T120000
DTEND;TZID=America/North_Dakota/New_Salem:20240725T130000
DTSTAMP:20260421T124303
CREATED:20240626T132109Z
LAST-MODIFIED:20240626T132109Z
UID:10003361-1721908800-1721912400@www.littlehoop.edu
SUMMARY:Raspberry Coconut Chia Pudding Workshop
DESCRIPTION:
URL:https://www.littlehoop.edu/event/raspberry-coconut-chia-pudding-workshop/
LOCATION:Cankdeska Cikana Community College\, 214 1st Ave\, Fort Totten\, ND\, 58335\, United States
CATEGORIES:Campus Events
END:VEVENT
BEGIN:VEVENT
DTSTART;TZID=America/North_Dakota/New_Salem:20240723T170000
DTEND;TZID=America/North_Dakota/New_Salem:20240723T183000
DTSTAMP:20260421T124303
CREATED:20240626T132013Z
LAST-MODIFIED:20240626T132013Z
UID:10003360-1721754000-1721759400@www.littlehoop.edu
SUMMARY:Stepping Stones Workshop
DESCRIPTION:
URL:https://www.littlehoop.edu/event/stepping-stones-workshop/
LOCATION:Cankdeska Cikana Community College\, 214 1st Ave\, Fort Totten\, ND\, 58335\, United States
CATEGORIES:Campus Events
END:VEVENT
BEGIN:VEVENT
DTSTART;TZID=America/North_Dakota/New_Salem:20240722T090000
DTEND;TZID=America/North_Dakota/New_Salem:20240726T150000
DTSTAMP:20260421T124303
CREATED:20240626T133016Z
LAST-MODIFIED:20240626T133016Z
UID:10003367-1721638800-1722006000@www.littlehoop.edu
SUMMARY:NATURE Camp - 8th to 12th Grades
DESCRIPTION:
URL:https://www.littlehoop.edu/event/nature-camp-8th-to-12th-grades/
LOCATION:Cankdeska Cikana Community College\, 214 1st Ave\, Fort Totten\, ND\, 58335\, United States
CATEGORIES:Campus Events
END:VEVENT
BEGIN:VEVENT
DTSTART;TZID=America/North_Dakota/New_Salem:20240719T080000
DTEND;TZID=America/North_Dakota/New_Salem:20240719T170000
DTSTAMP:20260421T124303
CREATED:20240610T131524Z
LAST-MODIFIED:20240610T131524Z
UID:10003279-1721376000-1721408400@www.littlehoop.edu
SUMMARY:Summer Grades Due
DESCRIPTION:
URL:https://www.littlehoop.edu/event/summer-grades-due-3/
LOCATION:Cankdeska Cikana Community College\, 214 1st Ave\, Fort Totten\, ND\, 58335\, United States
CATEGORIES:Academic Calendar
END:VEVENT
BEGIN:VEVENT
DTSTART;TZID=America/North_Dakota/New_Salem:20240718T170000
DTEND;TZID=America/North_Dakota/New_Salem:20240718T183000
DTSTAMP:20260421T124303
CREATED:20240626T131931Z
LAST-MODIFIED:20240626T131931Z
UID:10003359-1721322000-1721327400@www.littlehoop.edu
SUMMARY:Painted Wooden Salad Tongs Workshop
DESCRIPTION:
URL:https://www.littlehoop.edu/event/painted-wooden-salad-tongs-workshop/
LOCATION:Cankdeska Cikana Community College\, 214 1st Ave\, Fort Totten\, ND\, 58335\, United States
CATEGORIES:Campus Events
END:VEVENT
END:VCALENDAR